BEGIN:VCALENDAR
VERSION:2.0
PRODID:-//Our Lady&#039;s College Galway - ECPv4.6.1//NONSGML v1.0//EN
CALSCALE:GREGORIAN
METHOD:PUBLISH
X-WR-CALNAME:Our Lady&#039;s College Galway
X-ORIGINAL-URL:http://ourladyscollegegalway.ie
X-WR-CALDESC:Events for Our Lady&#039;s College Galway
BEGIN:VEVENT
DTSTART;VALUE=DATE:20171002
DTEND;VALUE=DATE:20171003
DTSTAMP:20171024T032528
CREATED:20170929T081243Z
LAST-MODIFIED:20170929T130058Z
UID:2444-1506902400-1506988799@ourladyscollegegalway.ie
SUMMARY:School closed for all students
DESCRIPTION:School Closed \n
URL:http://ourladyscollegegalway.ie/event/school-closed-students/
END:VEVENT
BEGIN:VEVENT
DTSTART;VALUE=DATE:20171030
DTEND;VALUE=DATE:20171104
DTSTAMP:20171024T032528
CREATED:20170929T103057Z
LAST-MODIFIED:20170929T103123Z
UID:2446-1509321600-1509753599@ourladyscollegegalway.ie
SUMMARY:Mid Term Break
DESCRIPTION:
URL:http://ourladyscollegegalway.ie/event/mid-term-break-2/
END:VEVENT
END:VCALENDAR